BEGIN:VCALENDAR
VERSION:2.0
CALSCALE:GREGORIAN
PRODID:-//MyApp//Calendar 1.0//EN
BEGIN:VEVENT
METHOD:PUBLISH
UID:32414@regionalniportaly.cz
DTSTAMP:20260422T002959Z
DTSTART;VALUE=DATE:20230507
DTEND;VALUE=DATE:20230508
SUMMARY:Kávový workshop
DESCRIPTION:Užijeme si kávové odpoledne v klidném prostředí divadelní kavárny&nbsp\;- provedeme Vás světem kávy- poznáte vůně a chutě káv z různých koutů světa- poznáte arabiku i robusu- naučíte se správně připravit espresso- naučíte se základy latte art- ochutnáte cascaru - nápoj ze sušených slupek kávových třešní&nbsp\;Délka akce cca 4 hodiny&nbsp\;
LOCATION:Svatý Jan
END:VEVENT
END:VCALENDAR