BEGIN:VCALENDAR
VERSION:2.0
CALSCALE:GREGORIAN
PRODID:-//MyApp//Calendar 1.0//EN
BEGIN:VEVENT
METHOD:PUBLISH
UID:32443@regionalniportaly.cz
DTSTAMP:20260422T022548Z
DTSTART;VALUE=DATE:20230723
DTEND;VALUE=DATE:20230724
SUMMARY:Ivo Jahelka v divadelní kavárně
DESCRIPTION:Srdečně Vás zveme na pohodový letní koncert zpívajícího právníka Ivo Jahelky.&nbsp\;
LOCATION:Svatý Jan
END:VEVENT
END:VCALENDAR