BEGIN:VCALENDAR
VERSION:2.0
CALSCALE:GREGORIAN
PRODID:-//MyApp//Calendar 1.0//EN
BEGIN:VEVENT
METHOD:PUBLISH
UID:32952@regionalniportaly.cz
DTSTAMP:20260422T050517Z
DTSTART;VALUE=DATE:20230812
DTEND;VALUE=DATE:20230813
SUMMARY:Fantom na zámku - Konopiště
DESCRIPTION:Představitelé Fantoma opery zazpívají na zámku KonopištěV sobotu 12.8. zazní od 20:30 pod širým nebem na nádvoří zámku Konopiště písně z českých a světových muzikálů v podání hlavních představitelů světoznámého muzikálu Fantom opery Radima Schwaba a Moniky Sommerové.Těšit se můžete na The Music Of The Night\, jednu z ústředních písní muzikálu Fantom opery a hitů z muzikálů: DRACULA\, KYTICE\, SUNSET BOULEVARD\, HELLO DOLLY!\, OBRAZ DORIANA GRAYE\, EXCALIBUR\, WEST SIDE STORY nebo OSOBNÍ STRÁŽCE.&nbsp\;ÚčinkujíRadim SchwabMonika Sommerová&nbsp\;Časový harmonogram20:00&nbsp\;Otevření areálu pro diváky20:30 Zahájení koncertu22:00&nbsp\;Ukončení koncertu
LOCATION:Benešov
END:VEVENT
END:VCALENDAR