BEGIN:VCALENDAR
VERSION:2.0
CALSCALE:GREGORIAN
PRODID:-//MyApp//Calendar 1.0//EN
BEGIN:VEVENT
METHOD:PUBLISH
UID:32957@regionalniportaly.cz
DTSTAMP:20260422T004839Z
DTSTART;VALUE=DATE:20230602
DTEND;VALUE=DATE:20230603
SUMMARY:Lukáš Pavlásek: „ Kdo nepláče není Čech “
DESCRIPTION:90 minutová one man show s podtitulem Češi\, alkohol a Rock and roll je klasickou standup comedy\, jen komik a mikrofon. Dozvíte se který národ je nejlepší na světě\, kde začíná zóna debilů\, proč pití prospívá naší civilizaci\, co pít když chcete\, aby se vám narodil Václav Klaus\, povíme si jak strávit pořádnou dovolenou\, kterou nám pokazí dámská jízda\, sestavíme si nekompromisní punkovou kapelu\, rozebereme si některé lidové písně a nakonec si všichni společně zazpíváme o tom co nám leze na nervy\, protože správnej Čech není nikdy spokojenej......Lukáš Pavlásek patří mezi průkopníky a nejvýraznější tváře české standup comedy\, natočil desítky výstupů do pořadů Na stojáka a Comedy club a absolvoval stovky vystoupení. Jeho celovečerní speciál je esencí toho nejlepšího z jeho tvorby.Nyní máte jedinečnou možnost vidět nejlepší&nbsp\;český stand-up&nbsp\;v prostředí krásných Jevan u Prahy v našem retro-kině.
LOCATION:Jevany
END:VEVENT
END:VCALENDAR