BEGIN:VCALENDAR
VERSION:2.0
CALSCALE:GREGORIAN
PRODID:-//MyApp//Calendar 1.0//EN
BEGIN:VEVENT
METHOD:PUBLISH
UID:33585@regionalniportaly.cz
DTSTAMP:20260422T020646Z
DTSTART;VALUE=DATE:20230927
DTEND;VALUE=DATE:20230928
SUMMARY:Perfect days v Benešově
DESCRIPTION:Romantická komedie nejen o ženách a nejen pro ženy.Úspěšná kadeřnice Barbs má na první pohled úplně všechno: prosperující firmu\, popularitu\, exkluzivní byt\, přátele a pečlivou matku. Ovšem jedno jí chybí - nějak nestihla mít dítě a zbývá jí posledních pár let\, kdy se to musí podařit. Jenže manželství se jí rozpadlo\, nejbližší přítel je homosexuál a potencionální otcové z nejrůznějších důvodů selhávají. Barbs si připadá absolutně nenaplněná. K čemu je žití na vysoké noze\, když na vás v obrovském bytě nikdo nečeká? Na co máte spoustu peněz\, když je nemáte s kým utrácet? A co teprve\, když je vám 40 a biologické hodiny bijí jako o závod? Lov na kvalitního dárce spermatu se pro ni pomalu ale jistě stává prioritou a posedlostí.&nbsp\;Romantická a svižná komedie\, která netradičním způsobem ironizuje (anti)feministická klišé. Hra Perfect days je vtipným důkazem toho\, že život pro nás vždy chystá něco úplně jiného\, než si plánujeme.Postavy a obsazení:Barbs: Lenka VlasákováBrendan: Jan DolanskýGrant: Jan HofmanSadie: Dana Syslová/Eva LecchiováAlice: Petra JungmanováDave: Vilém Udatný
LOCATION:Benešov
END:VEVENT
END:VCALENDAR