BEGIN:VCALENDAR
VERSION:2.0
CALSCALE:GREGORIAN
PRODID:-//MyApp//Calendar 1.0//EN
BEGIN:VEVENT
METHOD:PUBLISH
UID:33613@regionalniportaly.cz
DTSTAMP:20260422T022612Z
DTSTART;VALUE=DATE:20230728
DTEND;VALUE=DATE:20230729
SUMMARY:Bio Bezdíkov - Top Gun:Maverick
DESCRIPTION:Jeden z nejlepších pilotů na světě\, Pete „Maverick“ Mitchell\, se vrací do akce • dlouho chystané pokračování jednoho z nejoblíbenějších filmů vůbec\, které se opravdu povedlo •&nbsp\; USA • 2022 • 131 minut • nevhodný mládeži do 12 let--------------Letní kino je součástí&nbsp\;Škvoreckého kulturního léta&nbsp\;• promítáme pod širým nebem i za deště • najdete nás v parku na Masarykově náměstí ve Škvorci •&nbsp\;občerstvení zajištěno již před představením&nbsp\;• na místě promítání nejsou lavičky\, a proto si kromě dobré nálady s sebou přineste&nbsp\;vlastní karimatky\, deky\, sedátka nebo lehátka&nbsp\;Vstupenky zakoupíte na místě (platba možná i bezkontaktně platební kartou) nebo online zde&nbsp\;• využijte možnosti nákupu vstupenky předem\, vyhnete se frontě před vstupem • přijďte s dostatečným předstihem--------------Pete „Maverick“ Mitchell (Tom Cruise) k smrti rád pilotuje stíhačky. Dokonce tak\, že se už přes třicet let úspěšně brání povýšení ve strukturách amerického letectva\, protože to by ho z kokpitu vyhnalo do vyhřáté kanceláře. Maverick byl navíc vždycky magnetem na průšvihy\, což se s armádní kariérou taky docela vylučuje. Pilot je ovšem bravurní\, možná ten úplně nejlepší\, a proto dostane nabídku stát se instruktorem elitních stíhačů z programu Top Gun\, které má připravit na úkol\, jenž spadá do kategorie Mission Imposssible. Kromě téhle bude muset Maverick zvládnout i jednu obtížnou soukromou misi. Jedním z pilotů\, které má připravit do akce\, je i Bradley Bradshaw (Miles Teller)\, syn jeho kamaráda a navigátora Goose. Znalci prvního Top Gunu vědí\, že Goose zahynul\, když se neúspěšně katapultoval z neovladatelné stíhačky\, pilotované právě Maverickem. A jeho syn mu otcovu smrt klade za vinu. Maverick za žádnou cenu nechce\, aby Bradleyho potkal stejný osud jako jeho otce. Přitom si uvědomuje\, že pravděpodobnost\, že některý z pilotů plánovanou leteckou operaci nepřežije\, není vůbec malá. Představitel hlavní role a producent filmu Tom Cruise chtěl\, aby film byl maximálně autentický\, sám se proto naučil pilotovat stíhačku a všichni herci-piloti absolvovali náročný výcvik\, který umožňoval natáčení za letu přímo v kokpitu\, nikoliv na simulátoru před green screenem. „Jako malý jsem měl dva sny. Hrát ve filmu a pilotovat letadlo. Že jsem si je mohl splnit takhle najednou\, bylo parádní\,“ říká Cruise.“Pocit\, že letí ve stíhačce\, jsme chtěli dopřát i divákům\, a proto jsme šli do vzduchu. V počítačové animaci by to prostě nebylo ono\,“ vysvětluje.
LOCATION:Škvorec
END:VEVENT
END:VCALENDAR