BEGIN:VCALENDAR
VERSION:2.0
CALSCALE:GREGORIAN
PRODID:-//MyApp//Calendar 1.0//EN
BEGIN:VEVENT
METHOD:PUBLISH
UID:36098@regionalniportaly.cz
DTSTAMP:20260422T020930Z
DTSTART;VALUE=DATE:20231104
DTEND;VALUE=DATE:20231105
SUMMARY:90s jsou zpět
DESCRIPTION:SVOBODA\, MLÁDÍ\, OČEKÁVÁNÍ !!! NEKONČÍCÍ RADOST ZE ŽIVOTA A hlavně! BIGBÍT!!! … valil se ze všech stran a všechny nás spojoval! Vyprodané sály a cesty na zábavy\, které začínaly odchodem z domu po obědě a končily v ranních hodinách! Tohle všechno a ještě mnohem víc jsou ranné devadesátky!!!Pojďte se s námi vrátit zpátky a užijte si sílu devadesátek s kapelama\, které vládly našemu regionu!4. 11. 2023 KD ZdislaviceMORAVA ROCK ODYSSEA ŠTĚPÁN KOJAN BAND (KEKS) PROTON ROCK ČESKEJ CHLEBA ROCK SEC MAZEC Kdo nezažil - nepochopí! 4. 11. 2023 KD Zdislavice jsou ‘devadesátky’ zpět se svojí ohromující silou!THE 90's ARE BACK!&nbsp\;
LOCATION:Zdislavice
END:VEVENT
END:VCALENDAR