BEGIN:VCALENDAR
VERSION:2.0
CALSCALE:GREGORIAN
PRODID:-//MyApp//Calendar 1.0//EN
BEGIN:VEVENT
METHOD:PUBLISH
UID:38389@regionalniportaly.cz
DTSTAMP:20260422T032800Z
DTSTART;VALUE=DATE:20240212
DTEND;VALUE=DATE:20240213
SUMMARY:Pánská šatna - Martin Dejdar Petr Vacek Jiří Lábus
DESCRIPTION:Představení je kolektivní improvizace herců\, úspěšné písničky\, řeči\, atrakce\, nápady a to vše v režii Martina Dejdara.Nepropásněte jedinečnou příležitost nahlédnout klíčovou dírkou do pánské šatny známých herců.Zažijete spontánní atmosféru propojení herců a diváků s trochou kolegiální škodolibosti.Vždyť někteří z herců spolu hrají již desítky let a prožili společně velkou část hereckého života. To vše se odráží na vzájemných „přihrávkách“ i nekompromisních „smečích.“Hrají: Martin Dejdar\, Jiří Lábus\, Petr Vacek\, Jan Jiráň\, Martin Janouš\, Petr Hojer.Autor: Kolektivní improvizace hercůRežie: Martin DejdarProdukce: Kateřina Walterovádélka představení: 1 hod. 45 min (Inscenace je bez pauzy.)
LOCATION:Benešov
END:VEVENT
END:VCALENDAR