BEGIN:VCALENDAR
VERSION:2.0
CALSCALE:GREGORIAN
PRODID:-//MyApp//Calendar 1.0//EN
BEGIN:VEVENT
METHOD:PUBLISH
UID:38835@regionalniportaly.cz
DTSTAMP:20260422T033032Z
DTSTART;VALUE=DATE:20240406
DTEND;VALUE=DATE:20240407
SUMMARY:Ani o den dýl! v Benešově
DESCRIPTION:Bláznivá komediePotřebujete se zbavit přehnaně milující přítelkyně?&nbsp\;Nastěhujte si do bytu svého nejlepšího kamaráda!Pavel namluví své dívce Sofii\, že jeho přítel Martin ztratil matku\, a proto se k nim nastěhuje. Ve skutečnosti doufá\, že Sofie takovou situaci neunese a odejde. Martin se nastěhuje proti své vůli s tím\, že je to na týden a „ani o den dýl“. Tak tedy začíná výbušná domácnost ve třech\, plná lží\, nízkých přetvářek a jiných každodenních potěšení.Hra&nbsp\;Ani o den dýl!&nbsp\;šikovně převrací klasické prvky komiky a odtud pramení její osvěžující originalita. Je tak ztřeštěná\, jak se na francouzskou komedii sluší a patří.&nbsp\;Hrají:&nbsp\;Lukáš Langmajer\, Michaela Maurerová\,&nbsp\;Libor JeníkAutor: Clément MichelRežie: Roman Meluzín
LOCATION:Benešov
END:VEVENT
END:VCALENDAR