BEGIN:VCALENDAR
VERSION:2.0
CALSCALE:GREGORIAN
PRODID:-//MyApp//Calendar 1.0//EN
BEGIN:VEVENT
METHOD:PUBLISH
UID:38886@regionalniportaly.cz
DTSTAMP:20260422T032647Z
DTSTART;VALUE=DATE:20240308
DTEND;VALUE=DATE:20240309
SUMMARY:Koncert filmové hudby
DESCRIPTION:Symfonický orchestr Dalibora Havlíčka uvede v Benešově svůj úspěšný Koncert filmové hudby.  Zazní nejen skladby\, které orchestr provází od jeho vzniku v roce 2016 – například melodie z filmu Rocky\, populárního seriálu Hra o trůny\, či špionážní filmové série Mission Impossible. Uslyšíte ale i slavnou melodii Ennia Morriconeho z filmu Tenkrát na Západě a soundtracky dobrodružných filmů Indiana Jones\, Sedm statečných\, Poslední Mohykán a Vinnetou. Nebudou chybět ani melodie z filmů Pearl Harbor nebo Piráti z Karibiku\, jejichž autorem je jeden z nejvyhledávanějších skladatelů současnosti\, Hans Zimmer. Malé diváky zase jistě potěší melodie z filmové série o Harrym Potterovi nebo animované série Madagascar. Na své si přijdou také milovníci prvního a patrně i nejznámějšího českého filmového muzikálu z roku 1964 Starci na chmelu.   Místo konání: Kulturní dům Karlov Adresa: Na Karlově 2064\, Benešov Začátek: 19:00 Sál otevřen od 18:30 Délka koncertu: 2 x 45 minut (s přestávkou)\nVstupné: 450\,- /550\,- Kč
LOCATION:Benešov
END:VEVENT
END:VCALENDAR