BEGIN:VCALENDAR
VERSION:2.0
CALSCALE:GREGORIAN
PRODID:-//MyApp//Calendar 1.0//EN
BEGIN:VEVENT
METHOD:PUBLISH
UID:40762@regionalniportaly.cz
DTSTAMP:20260422T045044Z
DTSTART;VALUE=DATE:20240330
DTEND;VALUE=DATE:20240331
SUMMARY:Křivoklátským rychlíkem na velikonoční jarmark
DESCRIPTION:Hrad Křivoklát otevírá své brány a zve k oslavám jara!\n \nNavštivte královský hrad Křivoklát ve velikonoční náladě. Velikonoční program nabídne návštěvníkům samostatné prohlídky hradních interiérů a vystoupení pro děti i dospělé.\nProgramem vás bude provázet moderátor Pavel Šebek\, vystoupí Lidová muzika Osminka\, Kejklíř Čabik\, Kubula – kouzelník se psem a hudební skupina pro děti Myš &amp\; Maš.\n \nOtevřeno bude také křivoklátské muzeum českých motocyklů JAWA a ČZ.\n \nHistorický rychlík ve složení lokomotiva 751 “Bardotka” a přípojné vozy Balm včetně barového vozu BalmBar!\n \nJízdní řád:\nBenešov u Prahy 07:35 – Praha hl.n. 8:41 příj. / 9:00 odj. – Praha-Smíchov 9:11 – Praha-Radotín 09:20 – Černošice 09:26 – Křivoklát 10:36\nKřivoklát 15:30 – Černošice 16:52 – Praha-Radotín 16:57 – Praha-Smíchov 17:00 – Praha hl.n. 17:18 příj. / 17:23 odj. – Benešov u Prahy 18:32\n \nZpáteční jízdné Benešov u Prahy – Křivoklát:\ndospělý – 450 Kč (včetně 21 % DPH)dítě od 6 do 14\,9 let – 350 Kč (včetně 21% DPH)dítě od 0 do 5\,9 let – 0 Kč (bez nároku na místo k sezení)\n \nDalší informace naleznete na stránce výletní vlaky.\n 
LOCATION:Benešov
END:VEVENT
END:VCALENDAR