BEGIN:VCALENDAR
VERSION:2.0
CALSCALE:GREGORIAN
PRODID:-//MyApp//Calendar 1.0//EN
BEGIN:VEVENT
METHOD:PUBLISH
UID:41533@regionalniportaly.cz
DTSTAMP:20260422T062127Z
DTSTART;VALUE=DATE:20240417
DTEND;VALUE=DATE:20240418
SUMMARY:Skleněný zvěřinec
DESCRIPTION:Slavnou hru Skleněný zvěřinec napsal americký autor Tennessee Williams se silně autobiografickými prvky ze své vlastní rodiny. S humorem i dojetím a s tou největší upřímností líčí život opuštěné matky Amandy\, která svou láskou a touhou udělat své děti co možná nejšťastnějšími\, nadělá v rodině velikou paseku. Postava syna Toma je zosobněním samotného Tennessee Williamse a jeho sestra Laura je původně jeho pravá sestra Rose. Tato rodinná tragikomedie je o nás\, o každém z nás\,  je to zrcadlo nastavené do našich směšných rodinných kotrmelců. Z lásky se totiž udělají ty nejkrásnější i ty nejhorší věci. Společně s Amandou\, Tomem\, Laurou a nápadníkem Jimem\, se smějeme i  pláčeme sami nad sebou. 
LOCATION:Benešov
END:VEVENT
END:VCALENDAR