BEGIN:VCALENDAR
VERSION:2.0
CALSCALE:GREGORIAN
PRODID:-//MyApp//Calendar 1.0//EN
BEGIN:VEVENT
METHOD:PUBLISH
UID:41537@regionalniportaly.cz
DTSTAMP:20260422T050443Z
DTSTART;VALUE=DATE:20240420
DTEND;VALUE=DATE:20240421
SUMMARY:Nejhezčí Nedvědovky s Honzou Nedvědem
DESCRIPTION:Na koncertech si můžete zazpívat nejen staré hity Bratří Nedvědů\, skupiny Spirituál Kvintet\, Brontosaurů ale i Příbuzní. Uslyšíte i některé nové autorské písně\, které Honza vydává na své nové desce a určitě alespoň jednu zahraje a zazpívá. 
LOCATION:Benešov
END:VEVENT
END:VCALENDAR