BEGIN:VCALENDAR
VERSION:2.0
CALSCALE:GREGORIAN
PRODID:-//MyApp//Calendar 1.0//EN
BEGIN:VEVENT
METHOD:PUBLISH
UID:41601@regionalniportaly.cz
DTSTAMP:20260422T111237Z
DTSTART;VALUE=DATE:20240808
DTEND;VALUE=DATE:20240809
SUMMARY:QUEENSHOW 50 pod širým nebem
DESCRIPTION:Největší hity legendární skupiny&nbsp\;QUEEN! Slavná skupina slaví 50 let od svého průlomu a show na její počest dorazí i na amfiteátr Konopiště!Queenshow\, považovaná za jednu z nejlepších tribute kapel v Evropě a se silnými show věrnými duchu a magii Queen a Freddieho Mercuryho\, si vysloužila potlesk kritiků a veřejnosti. Queenshow je mezinárodně uznávaná Queen Tribute Show.Queenshow podává posluchači co nejvěrněji živé koncertní zvukové a vizuální provedení fenomenální britské skupiny Queen. Jejich dobře známé skladby jako Bohemian Rhapsody\, I Want To Break Free\, Under Pressure\, Radio Ga Ga a mnoho dalších vyžadují preciznost po hudební i technické stránce.Proto skupina Queenshow hraje na přesné kopii kytary Red Special\, kterou pro nás ve Francii vyrobil kytarář Mickaël Dansan. Jedinečný kytarový zvuk Briana Maya dotváří jeho stejná efektová sestava – legendární trebble booster Pete Cornish TB-83\, TB-83 Extra Duplex\, Boss CE1\, a typická britská klasika Vox AC30 v typické „voxácké kytarové stěně“. V písni Crazy Little Thing Called Love nesmí v sólu chybět černý Fender Telecaster.
LOCATION:Benešov
END:VEVENT
END:VCALENDAR