BEGIN:VCALENDAR
VERSION:2.0
CALSCALE:GREGORIAN
PRODID:-//MyApp//Calendar 1.0//EN
BEGIN:VEVENT
METHOD:PUBLISH
UID:41841@regionalniportaly.cz
DTSTAMP:20260422T111432Z
DTSTART;VALUE=DATE:20240824
DTEND;VALUE=DATE:20240825
SUMMARY:Dracula na Konopišti
DESCRIPTION:Muzikál Dracula vidělo v Paláci kultury (nyní Kongresové centrum) v letech 1995-1998 rekordních 1\,2 milionů diváků\, což je dosud nevídaný a nepřekonaný český muzikálový rekord! Následně byl uveden na Slovensku\, v jihokorejském Soulu\, v Polsku\, Německu\, Rusku\, Belgii nebo v Lichtenštejnsku. Téměř hned byl nazván českým muzikálem století.\nMuzikál vznikl na námět Stokerova románu Drákula\, jejž se však drží jen velmi volně. Děj se odehrává v 15. století\, v 19. století a v neurčité blízké budoucnosti. Představovat více Draculu není třeba. V příjemném prostředí amfiteátru Konopiště se v rámci koncertní verze muzikálu rozezní písně jako: „Vím\, že jsi se mnou“\, „Nespravedlivý Bůh“ nebo „Jsi můj pán“.
LOCATION:Benešov
END:VEVENT
END:VCALENDAR