BEGIN:VCALENDAR
VERSION:2.0
CALSCALE:GREGORIAN
PRODID:-//MyApp//Calendar 1.0//EN
BEGIN:VEVENT
METHOD:PUBLISH
UID:41842@regionalniportaly.cz
DTSTAMP:20260422T111534Z
DTSTART;VALUE=DATE:20240825
DTEND;VALUE=DATE:20240826
SUMMARY:Muzikál Maminy na Konopišti
DESCRIPTION:Mužům vstup jen na vlastní nebezpečí! Čtyři maminy se setkávají na předporodním večírku a společně sdílejí strasti i radosti mateřství... Nový komediální muzikál Maminy s Lucií Bílou míří poprvé na letní scény!\nPrvorodička Amy\, ambiciózní právnička Brooke\, sarkastická matka pěti dětí Barb a svobodná matka Tina. Čtyři maminy se setkávají na předporodním večírku a společně sdílejí strasti i radosti mateřství. Mezi padouchy\, se kterými jako superhrdinky dennodenně bojují\, totiž nepatří pouze domácí úkoly\, školní svačinky a hory špinavého prádla. Mateřství je jízda na emoční horské dráze a narození dítěte je teprve začátek… Protože být maminou\, to je poslání na celý život!Muzikál Maminy uvádíme ve spolupráci s Lucií Bílou.\nV roli svobodné matky Tiny se bez alternace představí Lucie Bílá!
LOCATION:Benešov
END:VEVENT
END:VCALENDAR