BEGIN:VCALENDAR
VERSION:2.0
CALSCALE:GREGORIAN
PRODID:-//MyApp//Calendar 1.0//EN
BEGIN:VEVENT
METHOD:PUBLISH
UID:43201@regionalniportaly.cz
DTSTAMP:20260422T093310Z
DTSTART;VALUE=DATE:20240607
DTEND;VALUE=DATE:20240608
SUMMARY:Štístko a Poupěnka - Pojď si hrát!
DESCRIPTION:Kdy: 7.6.2024 17:00Kde: KD Karlov\n \nNové představení Pojď si hrát! Opět se setkáte s panem Doremi\, Honzíkem a samozřejmě s námi: Štístkem a Poupěnkou. Na začátek si pořádně zaskáčeme s písničkou Skáčeme a také zalétáme s Letí\, letí.
LOCATION:Benešov
END:VEVENT
END:VCALENDAR