BEGIN:VCALENDAR
VERSION:2.0
CALSCALE:GREGORIAN
PRODID:-//MyApp//Calendar 1.0//EN
BEGIN:VEVENT
METHOD:PUBLISH
UID:43202@regionalniportaly.cz
DTSTAMP:20260422T093324Z
DTSTART;VALUE=DATE:20240607
DTEND;VALUE=DATE:20240608
SUMMARY:Nazareth\, Žlutý pes\, Michal Šindelář
DESCRIPTION:16:30 ... otevření amfiteátru17:30 - 18:45 ... Michal Šindelář19:15 - 20:45 ... Žlutý pes21:30 - 23:00 ... Nazareth
LOCATION:Benešov
END:VEVENT
END:VCALENDAR