BEGIN:VCALENDAR
VERSION:2.0
CALSCALE:GREGORIAN
PRODID:-//MyApp//Calendar 1.0//EN
BEGIN:VEVENT
METHOD:PUBLISH
UID:47414@regionalniportaly.cz
DTSTAMP:20260422T154446Z
DTSTART;VALUE=DATE:20250426
DTEND;VALUE=DATE:20250427
SUMMARY:Koncert filmové hudby | Benešov
DESCRIPTION:Smyčce Pražského filmového orchestru&nbsp\;pod taktovkou dirigenta Jiřího Korynty&nbsp\;přináší velkolepý koncert\, který představí&nbsp\;v benešovském kulturním domě Karlov!Diváci se mohou&nbsp\;těšit na&nbsp\;skladby z filmů&nbsp\;Star Wars\, Pán Prstenů\, Games of Thrones\, Harry Potter\, Piráti z&nbsp\;Karibiku&nbsp\;a další známé melodie stříbrného plátna.Koncert bude bohatý na fantastickou filmovou hudbu od světově známých hudebních skladatelů\, jakými jsou např.&nbsp\;John Williams\,&nbsp\;Hans Zimmer\,&nbsp\;Howard Shore&nbsp\;nebo&nbsp\;James Horner.&nbsp\;
LOCATION:Benešov
END:VEVENT
END:VCALENDAR