BEGIN:VCALENDAR
VERSION:2.0
CALSCALE:GREGORIAN
PRODID:-//MyApp//Calendar 1.0//EN
BEGIN:VEVENT
METHOD:PUBLISH
UID:49047@regionalniportaly.cz
DTSTAMP:20260422T153319Z
DTSTART;VALUE=DATE:20250528
DTEND;VALUE=DATE:20250529
SUMMARY:THE BEATLES SHOW 60 | Benešov
DESCRIPTION:Největší hity legendární skupiny BEATLES v Benešově!Jedna z nejlepších tribute kapel v Evropě vystoupí 28.05. 2025 v Benešově! Po úspěšných tour v Holandsku\, Polsku\, Francii\, Maďarsku\, Slovensku a dokonce i v rodišti legendární čtveřice - severoanglickém Liverpoolu! Těšit se můžete na největší hity "Brouků" téměř v originálním podání.Vstupenky jsou nyní k dispozici a vy si tak můžete zajistit své místo na tomto nezapomenutelném koncertním zážitku.Originální nástroje a pódiová aparatura- Sólová kytara Rickenbacker 360 Fireglow\, aparatura VOX AC30- Rytmická kytara Rickenbacker 350 Liverpool\, aparatura VOX AC30- Basová kytara Höfner Violin Bass\, aparatura VOX AC100 + VOX T100- Bicí Ludwig - Fab 4 Set\, Black Oyster FinishKostýmy- Kopie černých obleků používaných v letech 1962-64 + Beatle Chelsea Cavern Boots- Kopie šedých obleků s černými klopami z období 1963-65 + Beatle Chelsea Cavern Boots- Kopie Shea Stadium Jackets z let 1965-66 + Beatle Chelsea Cavern Boots- Kopie uniforem z alba Sgt. Pepper's Lonely Hearts Club Band
LOCATION:Benešov
END:VEVENT
END:VCALENDAR