BEGIN:VCALENDAR
VERSION:2.0
CALSCALE:GREGORIAN
PRODID:-//MyApp//Calendar 1.0//EN
BEGIN:VEVENT
METHOD:PUBLISH
UID:50983@regionalniportaly.cz
DTSTAMP:20260422T143827Z
DTSTART;VALUE=DATE:20250216
DTEND;VALUE=DATE:20250217
SUMMARY:Workshop s umělkyní Terezou Tomanovou
DESCRIPTION:Šímova síň\nMezigenerační workshop seznámení s přírodními inkousty navazuje na probíhající výstavu Zahrada: Místo se(t)kání. Autorka se v programu zaměří na barviva získaná z krajiny v zimním období. V úvodní části proběhne základní představení chování přírodních barviv. Druhá polovina bude věnována samotné malbě a experimenty s nimi.\nPŘIHLAŠOVACÍ FORMULÁŘ\nCena: 200 Kč/osoba/platba před workshopem
LOCATION:Benešov
END:VEVENT
END:VCALENDAR