BEGIN:VCALENDAR
VERSION:2.0
CALSCALE:GREGORIAN
PRODID:-//MyApp//Calendar 1.0//EN
BEGIN:VEVENT
METHOD:PUBLISH
UID:50984@regionalniportaly.cz
DTSTAMP:20260422T160644Z
DTSTART;VALUE=DATE:20250223
DTEND;VALUE=DATE:20250224
SUMMARY:Workshop: otisk na látku
DESCRIPTION:lektorská dílna\nPo několika úspěšných workshopech zaměřených na techniku plstění přichází Květa Pavlíčková s úplně novým zážitkem – tentokrát nás vtáhne do světa tisku na textil. Tento kreativní workshop vám umožní objevit fascinující techniky\, jak pomocí otisků a barev oživit látky a vytvořit originální textilní vzory.\nKurz je vhodný pro začátečníky i pokročilé\, kteří si chtějí rozšířit své dovednosti nejen v oblasti textilní tvorby.\nPŘIHLAŠOVACÍ FORMULÁŘ\nCena: 300 Kč/osoba/platba před workshopem na pokladně MUD*
LOCATION:Benešov
END:VEVENT
END:VCALENDAR