BEGIN:VCALENDAR
VERSION:2.0
CALSCALE:GREGORIAN
PRODID:-//MyApp//Calendar 1.0//EN
BEGIN:VEVENT
METHOD:PUBLISH
UID:50993@regionalniportaly.cz
DTSTAMP:20260422T154752Z
DTSTART;VALUE=DATE:20250225
DTEND;VALUE=DATE:20250226
SUMMARY:Miluji tě\, tak se měj...
DESCRIPTION:25. února 2025 – 19:00 hod. – MD Na Poště / JT Promotion\nHrají: Ljuba Krbová\, Adrian Jastraban\nBrilantní komedie z divadelního prostředí\, kde všechny postavy hrají pouze dva herci. Richard\, herec a režisér\, bohém se zálibou v alkoholu připravuje premiéru. Jeho herecké partnerky před ním utíkají jedna za druhou. Poslední záchranou je Lies\, Richardova dávná kolegyně a láska.\nNa jevišti jim to klape\, ovšem mimo něj... V komedii je vše\, co k dobré hře patří\, humor\, láska\, sentiment a skvělé herecké výkony.\nCena: 399 Kč
LOCATION:Benešov
END:VEVENT
END:VCALENDAR