BEGIN:VCALENDAR
VERSION:2.0
CALSCALE:GREGORIAN
PRODID:-//MyApp//Calendar 1.0//EN
BEGIN:VEVENT
METHOD:PUBLISH
UID:50995@regionalniportaly.cz
DTSTAMP:20260422T160419Z
DTSTART;VALUE=DATE:20250219
DTEND;VALUE=DATE:20250220
SUMMARY:ROZÁLIE koncertní one women show
DESCRIPTION:Kdy: 19.2.2025 19:00\nKde: MAX BEER BAR\nDalší na seznamu námi pozvaných osobností je vycházející hvězda české šansonu Rozálie Havelková dcera výborného muzikanta Ondřeje Havelky. Jablko opravdu nepadá daleko od stromu.\nCharismatická zpěvačka\, akeordeonistka\, herečka a tanečnice kombinuje svým nezaměnitelným syrovým projevem a jadrnou ironií dryáčnický šanson s cynickou romantikou. Svým uhrančivým půvabem a přesvědčivostí vypráví svoje životní příběhy v čistě autorských písních\, které nacházejí silnou odezvu napříč spektrem publika. Svou upřímností a životní realitou vrážejí klín do dnešního vyumělkovaného\, unifikovaného světa.\nV roce 2022 se dostala do nejužší nominace Cen Anděl v kategorii Objev roku s albem Korzetiér a v roce 2023 je nominovaná na Českého slavíka v kategorii Objev roku.\npředprodej: 490 Kč\nna místě: 590 Kč\npředprodej v Max pivotéce na pokladně (každý den 8.00 až 19.00 hod.) nebo na ticketstream.cz\nPo zakoupení vstupenky rezervuj stůl na 605 085 150.\nV den koncertu otevřeno od 18.00 hod.  
LOCATION:Benešov
END:VEVENT
END:VCALENDAR