BEGIN:VCALENDAR
VERSION:2.0
CALSCALE:GREGORIAN
PRODID:-//MyApp//Calendar 1.0//EN
BEGIN:VEVENT
METHOD:PUBLISH
UID:51302@regionalniportaly.cz
DTSTAMP:20260422T140440Z
DTSTART;VALUE=DATE:20250307
DTEND;VALUE=DATE:20250308
SUMMARY:Koncert - Holokrci
DESCRIPTION:Nenechte si ujít nejlepší akci února! Kapela HOLOKRCI rozzáří hostinec v Doubku!Už dvacet let tahle parta zkušených muzikantů\, která se rekrutovala z hvězdných jmen jako Countrymix\, Harcovníci nebo Divokej Bill\, baví publikum po celé republice. Jejich hudba je jako míchaný koktejl - najdete v ní pop\, rock\, bluegrass\, folk i českou klasickou country. A aby toho nebylo málo\, na jejich koncertech s nimi často vystupuje i legendární Milan Pitkin z Banjo Bandu Ivana Mládka.HOLOKRCI - to je záruka skvělé zábavy\, nezapomenutelného zážitku a energie\, která vás zaručeně zvedne ze židle. Přijďte se pobavit a zazpívat si s námi!
LOCATION:Doubek
END:VEVENT
END:VCALENDAR