BEGIN:VCALENDAR
VERSION:2.0
CALSCALE:GREGORIAN
PRODID:-//MyApp//Calendar 1.0//EN
BEGIN:VEVENT
METHOD:PUBLISH
UID:51472@regionalniportaly.cz
DTSTAMP:20260422T160526Z
DTSTART;VALUE=DATE:20250302
DTEND;VALUE=DATE:20250303
SUMMARY:Mezigenerační workshop: drátovaná bižuterie
DESCRIPTION:Zveme vás na jedinečný mezigenerační workshop drátování\, kde se naučíte vše potřebné od základů až po vytvoření kompletního šperku. Během tvůrčího setkání se seznámíte s různými technikami a styly drátování\, poznáte vlastnosti materiálů a osvojíte si práci s řemeslným vybavením.\nNaučíme vás vytvářet krásnou bižuterii bez nutnosti kupovaných komponentů. Budete pracovat se skleněnými korálky\, minerály a různými druhy drátů. Získané dovednosti můžete využít i při oživení svých starších šperků.\nV druhé části workshopu se ponoříte do samotné tvorby. Pod vedením Andrey Košanové si vytvoříte svou vlastní sadu šperků. Odneste si domů nejen nové znalosti\, ale především jedinečné kousky\, které nikdo jiný nemá!\nPřijďte tvořit společně napříč generacemi a objevte kouzlo vlastnoručně vyrobených šperků.\nCena 350 Kč děti (cena včetně oběda)\, dospělí 300 Kč (bez oběda)
LOCATION:Benešov
END:VEVENT
END:VCALENDAR