BEGIN:VCALENDAR
VERSION:2.0
CALSCALE:GREGORIAN
PRODID:-//MyApp//Calendar 1.0//EN
BEGIN:VEVENT
METHOD:PUBLISH
UID:51476@regionalniportaly.cz
DTSTAMP:20260422T143329Z
DTSTART;VALUE=DATE:20250305
DTEND;VALUE=DATE:20250306
SUMMARY:České podsvětí Josefa Klímy
DESCRIPTION:Autor populárního podcastu „České podsvětí“\, zakladatel investigativní žurnalistiky u nás Josef Klíma vypráví o divokých „devadesátkách“\, o tom\, jak se setkával s tehdejšími mocnými mafiány\, od Jonáka až po Krejčíře\, jak nebezpečné tehdy bylo být novinářem\, ale i tom\, jak se zločin mezitím proměnil. Odpovídá na otázky diváků\, které se mj. týkají i populárního seriálu „Sedm schodů k moci“ (TV Prima)\, k němuž ho jako scénáristu volně inspiroval případ Nagyová-Nečas.\nVstupenky lze zakoupit v Turistickém informačním centru\, Masarykovo náměstím 230\, Benešov a v prodejní síti Ticketportal
LOCATION:Benešov
END:VEVENT
END:VCALENDAR