BEGIN:VCALENDAR
VERSION:2.0
CALSCALE:GREGORIAN
PRODID:-//MyApp//Calendar 1.0//EN
BEGIN:VEVENT
METHOD:PUBLISH
UID:51485@regionalniportaly.cz
DTSTAMP:20260422T184123Z
DTSTART;VALUE=DATE:20250320
DTEND;VALUE=DATE:20250321
SUMMARY:Štístko a Poupěnka - Největší show
DESCRIPTION:Ahoj Broučkové\,\nsen se stal skutečností a my vyrážíme za vámi s písničkami\, které máte nejraději. Bude to naše Největší show a to nejen s našimi nejlepšími hity. Čeká vás i úžasná světelná podívaná. A to není vše! Dokonce se k nám připojí nový zpěvavý brouček - světluška Hopsalka. Nebo Houpalka? Nechte se překvapit! Na scéně se ukáže i velký maskot Ňufáček a náš Honzík s panem Doremi. Společně roztančíme celý sál. Zkrátka bude Elo elo veselo\, protože tam s námi bude i Stonožka Ponožka. Starý známý vlk dostane co proto v písničce Vlk a kůzlátka. A aby toho nebylo málo\, budeme zachraňovat Jeníčka a Mařenku před zlou ježibabou. Pohádkové bytosti doplní Vodník Brekeke\, který pořád hledá nevěstu. A když se nepleteme jako Loleta Popleta\, tak si i pořádně zadupeme s Brontosaurem a mamutem. Kdyby nám náhodou vyhládlo\, zachrání nás Mňamáček. Obrovský 2 metrový maskot Ňufáček vystoupí se svou novou písničkou Až budu veliký. Kdo doteď netancoval\, musí se přidat s Hejbni kostrou. Pokračovat budeme bláznivou diskotékou s hity: Bláznivý den\, Hakuna matata\, Princ Bajaja\, Čert a Káča\, Jdi za svým snem a Snílkové. Na úplný závěr nezapomeneme ani na Jojojo nenene v nové diskoverzi. Pořádně to roztočíme s Tanči\, tanči a malí i velcí tanečníci si zazpívají Jájájá. Na jevišti a v hledišti se potkají ti nejlepší Kamarádi v naší nezapomenutelné Největší show! Zkrátka bude to pořádná jízda\, s velkým Ňufáčkem\, malou kočičkou\, klávesákem panem Doremi\, a jako překvapení\, taky se světluškou Hopsalkou nebo Houpalkou. A samozřejmě nebudeme chybět ani my!
LOCATION:Benešov
END:VEVENT
END:VCALENDAR