BEGIN:VCALENDAR
VERSION:2.0
CALSCALE:GREGORIAN
PRODID:-//MyApp//Calendar 1.0//EN
BEGIN:VEVENT
METHOD:PUBLISH
UID:51491@regionalniportaly.cz
DTSTAMP:20260422T153118Z
DTSTART;VALUE=DATE:20250329
DTEND;VALUE=DATE:20250330
SUMMARY:Blbec k večeři
DESCRIPTION:Gurmánská komedie na cizí účet!\nZe všeho nejhorší je srážka s blbcem. Jenže co když si pozvete blbce až k sobě domů? To se potom může stát\, že on udělá blbce z vás. Protože i takový blbec má srdce... \nBohatý a úspěšný nakladatel Pierre Brochant se považuje za inteligentního člověka. Spolu se svými přáteli se však pravidelně oddává opravdu zvláštnímu druhu zábavy. A tím je pořádáním Večeře blbců. Každý má za úkol sehnat co možná největšího blbce a celý večer si ze svých blbců utahovat. Čím větší blb\, tím líp – o to větší bude zábava.\nTentokrát se Pierrovi povedlo ulovit blbce světové třídy. Do cesty mu přijde účetní Francoise Pignon\, který doslova vypadá na nekorunovaného krále všech blbců. Pignon je totiž nesnesitelně otravný a neskutečně přihlouplý. Jenže co čert nechtěl. V den konání večeře si Pierre na golfu poraní záda a nezbývá\, než celou večeři odvolat. Jenže pan Pignon už je na cestě.Jeden večer\, jeden pařížský byt a jeden blbec na večeři. Je naprosto jisté\, že Pierre na tuhle noc do smrti nezapomene. Protože\, kdo jinému jámu kopá\, sám do ni padá. A kdo se směje naposled\, ten se směje nejlíp.\nJedná se o nejslavnější komedii z pera francouzského spisovatele a filmového režiséra Francise Vebera. Původní divadelní hra se stala tak moc úspěšnou\, že se ji rozhodl autor také zfilmovat. S více než 9 milióny diváků se v roce 1998 stal druhým nejnavštěvovanějším filmem ve Francii po filmu Titanic. Zfilmovaný blbec k večeři se dodnes řadí mezi klenoty francouzské kinematografie. \nFilm získal tři ceny César v kategoriích nejlepší scénář (Francis Veber)\, nejlepší herec (Jacques Villeret) a nejlepší herec ve vedlejší roli (Daniel Prévost). \n 
LOCATION:Benešov
END:VEVENT
END:VCALENDAR