BEGIN:VCALENDAR
VERSION:2.0
CALSCALE:GREGORIAN
PRODID:-//MyApp//Calendar 1.0//EN
BEGIN:VEVENT
METHOD:PUBLISH
UID:51777@regionalniportaly.cz
DTSTAMP:20260422T055253Z
DTSTART;VALUE=DATE:20250412
DTEND;VALUE=DATE:20250413
SUMMARY:Wabi\, zůstáváš – recitál – Wabi Daněk Tribute
DESCRIPTION:Tři muzikanti\, jimž je líto\, že už na koncerty Wabiho Daňka nemůžou chodit\, a rozhodli se ho vrátit na pódia.&nbsp\;
LOCATION:Týnec nad Sázavou
END:VEVENT
END:VCALENDAR