BEGIN:VCALENDAR
VERSION:2.0
CALSCALE:GREGORIAN
PRODID:-//MyApp//Calendar 1.0//EN
BEGIN:VEVENT
METHOD:PUBLISH
UID:52938@regionalniportaly.cz
DTSTAMP:20260422T140557Z
DTSTART;VALUE=DATE:20250415
DTEND;VALUE=DATE:20250416
SUMMARY:Jaro Josefa Suka - Zahajovací koncert
DESCRIPTION:SUKŮV SYMFONICKÝ ORCHESTRJAROMÍR M. KRYGEL / dirigentMAREK KOZÁK / klavír Kdy: 15.4.2025 19:00\nKde: KD Karlov
LOCATION:Benešov
END:VEVENT
END:VCALENDAR