BEGIN:VCALENDAR
VERSION:2.0
CALSCALE:GREGORIAN
PRODID:-//MyApp//Calendar 1.0//EN
BEGIN:VEVENT
METHOD:PUBLISH
UID:52939@regionalniportaly.cz
DTSTAMP:20260422T105127Z
DTSTART;VALUE=DATE:20250511
DTEND;VALUE=DATE:20250512
SUMMARY:Jaro Josefa Suka
DESCRIPTION:Kdy: 15.4.2025 19:00\nKde: KD Karlov\n 
LOCATION:Benešov
END:VEVENT
END:VCALENDAR