BEGIN:VCALENDAR
VERSION:2.0
CALSCALE:GREGORIAN
PRODID:-//MyApp//Calendar 1.0//EN
BEGIN:VEVENT
METHOD:PUBLISH
UID:52940@regionalniportaly.cz
DTSTAMP:20260422T105023Z
DTSTART;VALUE=DATE:20250521
DTEND;VALUE=DATE:20250522
SUMMARY:Jaro Josefa Suka
DESCRIPTION:Kdy: 15.4.2025 19:00\nKde: KD Karlov\n 
LOCATION:Benešov
END:VEVENT
END:VCALENDAR