BEGIN:VCALENDAR
VERSION:2.0
CALSCALE:GREGORIAN
PRODID:-//MyApp//Calendar 1.0//EN
BEGIN:VEVENT
METHOD:PUBLISH
UID:52941@regionalniportaly.cz
DTSTAMP:20260422T105006Z
DTSTART;VALUE=DATE:20250529
DTEND;VALUE=DATE:20250530
SUMMARY:Jaro Josefa Suka
DESCRIPTION:
LOCATION:Benešov
END:VEVENT
END:VCALENDAR