BEGIN:VCALENDAR
VERSION:2.0
CALSCALE:GREGORIAN
PRODID:-//MyApp//Calendar 1.0//EN
BEGIN:VEVENT
METHOD:PUBLISH
UID:54244@regionalniportaly.cz
DTSTAMP:20260422T154539Z
DTSTART;VALUE=DATE:20250518
DTEND;VALUE=DATE:20250519
SUMMARY:Komorní koncert Eva Mokrá – viola / Adam Pavlíček – kytara
DESCRIPTION:Dovolujeme si vás pozvat na mimořádný komorní koncert v prostorách Muzea umění a designu Benešov\, kde se v jedinečném dialogu setkají dva mistrovské nástroje. Připojte se 18. května od 18.00 hod. Kdy: 18.5.2025 18:00\nKde: Muzeum umění a designu Benešov
LOCATION:Benešov
END:VEVENT
END:VCALENDAR