BEGIN:VCALENDAR
VERSION:2.0
CALSCALE:GREGORIAN
PRODID:-//MyApp//Calendar 1.0//EN
BEGIN:VEVENT
METHOD:PUBLISH
UID:55136@regionalniportaly.cz
DTSTAMP:20260422T123148Z
DTSTART;VALUE=DATE:20250802
DTEND;VALUE=DATE:20250803
SUMMARY:Morčata na útěku a Záviš Na Sladovce
DESCRIPTION:Po roční odmlce nás opět navštíví skvělé kombo Morčata na útěku a Záviš.
LOCATION:Benešov
END:VEVENT
END:VCALENDAR