BEGIN:VCALENDAR
VERSION:2.0
CALSCALE:GREGORIAN
PRODID:-//MyApp//Calendar 1.0//EN
BEGIN:VEVENT
METHOD:PUBLISH
UID:55934@regionalniportaly.cz
DTSTAMP:20260422T154340Z
DTSTART;VALUE=DATE:20250810
DTEND;VALUE=DATE:20250811
SUMMARY:Pohádková stezka /  BENEŠOV
DESCRIPTION:🌟 Nejoblíbenější Týnky pohádková stezka míří do Benešova! 🌟Potkejte své oblíbené pohádkové kamarády! 🎉Na trase Vás čekají zábavné úkoly pro děti\, ale také Vaši oblíbení pohádkoví kamarádi – třeba z Tlapkové patroly\, Ledového království\, králíčka Binga a mnoha dalších kamarádů\, které vaše děti zbožňují.Nenechte si ujít tento jedinečný pohádkový zážitek s Vašimi dětmi.🎈 Vhodné pro děti ve věku 2–7 let📅 Datum: 10. 08. 2025⏰ Čas: Najdete na své zakoupené vstupence📍 Místo: Lesopark Sladovka\, ulice U Náhonu\, Benešov🚩 Start: https://mapy.com/s/punatacake&nbsp\;🚨 POZOR\, POZOR! 🚨Poslední start pohádkové stezky je v 12:00-12:10Po tomto čase již nebude možné vstoupit na trasu\, dorazte včas! ⏰&nbsp\;Při příchodu se prosím zaregistrujte ve stánku.
LOCATION:Benešov
END:VEVENT
END:VCALENDAR