BEGIN:VCALENDAR
VERSION:2.0
CALSCALE:GREGORIAN
PRODID:-//MyApp//Calendar 1.0//EN
BEGIN:VEVENT
METHOD:PUBLISH
UID:55963@regionalniportaly.cz
DTSTAMP:20260422T073446Z
DTSTART;VALUE=DATE:20250726
DTEND;VALUE=DATE:20250727
SUMMARY:Léto na Konopišti s KEKS a RYBIČKY 48
DESCRIPTION:Po třech letech se vrací KEKS do nejkrásnějšího areálu v jeho domovském okolí\, a to do Amfiteátru Konopiště. Kdy: 26.7.2025 17:45Kde: Přírodní divadlo KonopištěPo třech letech se vrací KEKS do nejkrásnějšího areálu v jeho domovském okolí\, a to do Amfiteátru Konopiště. Můžete se těšit na exkluzivní koncert\, kde zazní průřez celou jejich hudební tvorbou.\nJako největšího hosta si pozvali opravdovou bombu hudební scény\, a to kapelu RYBIČKY 48. Kapela\, která se vrátí na Konopiště po několika letech a dlouhodobě se pohybuje mezi špičkou české hudební scény\, představí svojí zcela novou Monster show plnou pyro efektů na největší 20metrové stage\, která kdy byla na Konopišti včetně LED obrazovek. Během večera zazní výběr těch největších hitů kapely jako je třeba Slibuju\, že nebudu pít nebo Léto.\nNa koncertu se představí také kapela MADAM ROYAL\, která v roce 2021 absolvovala úspěšnou národní tour se skupinou Škwor. O rok později skupina vydala studiovou desku HardPop\, jejíž název je zároveň charakteristikou žánru. \nMůžete se těšit na skvělý hudební večer.
LOCATION:Benešov
END:VEVENT
END:VCALENDAR