BEGIN:VCALENDAR
VERSION:2.0
CALSCALE:GREGORIAN
PRODID:-//MyApp//Calendar 1.0//EN
BEGIN:VEVENT
METHOD:PUBLISH
UID:56322@regionalniportaly.cz
DTSTAMP:20260422T171835Z
DTSTART;VALUE=DATE:20250816
DTEND;VALUE=DATE:20250817
SUMMARY:Rock in - open-air koncert
DESCRIPTION:Rock in nabídne jedinečná open-air vystoupení kapely Škwor\, kterou na různých místech doprovodí další velká jména jako Olympic\, Walda Gang\, Panoptiko\, Arakain a Helenine Oči. Kdy: 16.8.2025 14:00\nKde: Přírodní divadlo Konopiště
LOCATION:Benešov
END:VEVENT
END:VCALENDAR