BEGIN:VCALENDAR
VERSION:2.0
CALSCALE:GREGORIAN
PRODID:-//MyApp//Calendar 1.0//EN
BEGIN:VEVENT
METHOD:PUBLISH
UID:57054@regionalniportaly.cz
DTSTAMP:20260422T103641Z
DTSTART;VALUE=DATE:20250905
DTEND;VALUE=DATE:20250905
SUMMARY:Alenka v říši divů
DESCRIPTION:Alenka v říši divů – Muzikál\, ze kterého se neprobudíte!Alenka se propadááááááá do neznáma a míří přímo do vašeho města! Kdy: 5.9.2025 17:00\nKde: KD Karlov\nPředprodej:https://www.smsticket.cz/nakup/krok-1-vyber/56182-alenka-v-risi-divu-i-benesov-kd-karlov-benesov Pohádka\, kterou znáte – ale rozhodně ne takhle!\n\nDynamické\, interaktivní představení s přímým zapojením publika.\nPerfektně přizpůsobené dětem všech věkových kategorií - stanou se přímo součástí kouzelného dění.\nSkvělá hudba a chytlavé písničky.\nFOCENÍ v říši divů přímo na jevišti se všemi herci po skončení představení.\n60 minut zábavy pro celou rodinu \nKostýmy\, světla\, projekce a dechberoucí scéna doplněná o výkony skvělých herců\, zpěváků a tanečníků.\n\nMuzikál a celá show je doslova jízda fantazií. Zážitek\, na který se nezapomíná!\nKe každé dětské vstupence malý DÁREK ZDARMA. Akce platí jen do 15.5.2025\nPŘIJĎTE SE ZASMÁT\, ZAZPÍVAT A NEZTRATIT SE V ŘÍŠI DIVŮ!\nMuzikál z dílny zkušených tvůrců muzikálů: Vánoční Loupež a Popelka!\nTematický Dárek* ke každé dětské vstupence – na výběr ze 3 druhů \n*Dárek ke vstupence je poze v rámci časově omezené akce. Pořadatel si vyhrazuje právo akci kdykoliv zastavit. \n 
LOCATION:Benešov
END:VEVENT
END:VCALENDAR