BEGIN:VCALENDAR
VERSION:2.0
CALSCALE:GREGORIAN
PRODID:-//MyApp//Calendar 1.0//EN
BEGIN:VEVENT
METHOD:PUBLISH
UID:58515@regionalniportaly.cz
DTSTAMP:20260422T060350Z
DTSTART;VALUE=DATE:20251004
DTEND;VALUE=DATE:20251005
SUMMARY:Podzimní turné Alkehol a Arakain A + A tour 2025
DESCRIPTION:Dvě legendární české kapely Alkehol a Arakain vyrážejí na podzimní část společného turné A+A tour 2025. Kdy:4.10.2025 20:00 - 23:59Kde:KD Karlov Dvě legendární české kapely Alkehol a Arakain vyrážejí na podzimní část společného turné A+A tour 2025. V měsících říjen a listopad\, na které jsou koncerty naplánované\, kapely odehrají celkem 9 společných koncertů napříč celou naší Republikou.\nKaždá kapela odehraje téměř hodinu a půl dlouhý koncert\, na které zazní ty největší hity\, ale i nějaké novinky z jejich dosavadní tvorby. Koncerty budou doprovázet i speciální efekty světelného a pyroshow charakteru.\nTento neopakovatelný dvojkoncert by si neměl nechat ujít žádný příznivec dobré rockové a metalové hudby.\nOpen door 19:00 hodin\nZačátek 20:00 hodin
LOCATION:Benešov
END:VEVENT
END:VCALENDAR