BEGIN:VCALENDAR
VERSION:2.0
CALSCALE:GREGORIAN
PRODID:-//MyApp//Calendar 1.0//EN
BEGIN:VEVENT
METHOD:PUBLISH
UID:58518@regionalniportaly.cz
DTSTAMP:20260422T060439Z
DTSTART;VALUE=DATE:20251007
DTEND;VALUE=DATE:20251008
SUMMARY:Lenka Filipová - koncert se smyčci
DESCRIPTION:Kulturní dům Karlov v Benešově stane místem výjimečného hudebního zážitku\, kdy Lenka Filipová\, jedna z největších českých hudebních ikon\, vystoupí se speciálním programem\, který doprovodí smyčcové kvarteto. Kdy:7.10.2025 19:00Kde:KD Karlov Tento koncert je unikátní příležitostí zažít oblíbené hity Lenky Filipové v novém\, symfonickém aranžmá\, které spojuje její nezaměnitelný hlas s kouzlem smyčcových nástrojů.\nFanoušci i noví posluchači se mohou těšit na směs písní\, které provázejí Lenku Filipovou celou její kariérou\, ale i na nové hudební interpretace\, které této výjimečné umělkyni dodávají novou hloubku a emocionalitu.\nNenechte si ujít tuto jedinečnou událost plnou krásné hudby\, která vás pohltí nejen zvukem\, ale i atmosférou živého vystoupení. Přijďte a prožijte nezapomenutelný večer s Lenou Filipovou!
LOCATION:Benešov
END:VEVENT
END:VCALENDAR