BEGIN:VCALENDAR
VERSION:2.0
CALSCALE:GREGORIAN
PRODID:-//MyApp//Calendar 1.0//EN
BEGIN:VEVENT
METHOD:PUBLISH
UID:58521@regionalniportaly.cz
DTSTAMP:20260422T073344Z
DTSTART;VALUE=DATE:20251008
DTEND;VALUE=DATE:20251009
SUMMARY:Zamilovaný sukničkář
DESCRIPTION:Harry Douglas\, záletný americký velvyslanec ve Velké Británii\, řekne své ženě Lois\, že odjíždí na víkend do Skotska hrát golf. Kdy:8.10.2025 19:00Kde:KD Karlov Lois naopak Harrymu oznámí\, že bude na víkend v lázních a že jejich dcera Debbie odjíždí navštívit kamarádku. Harry se ovšem tajně vrací do prázdného domu\, jelikož si naplánoval milostné dostaveníčko s přitažlivou sousedkou Marianne. Oblíbený a zkušený autor frašek Michael Parker slibuje překvapivý konec a množství komediálních situací.\nHrají: Lukáš Vaculík\, Viktor Limr/Pavel Nečas\, Filip Tomsa/Lukáš Pečenka\, Juraj Bernáth\, Kristýna Kociánová/Hana Kusnjerová\, Mahulena Bočanová/AdélaGaondíková/Beáta Stanková\, Olga Želenská\, Ivana Anderlová/Pavla Vojáčková
LOCATION:Benešov
END:VEVENT
END:VCALENDAR