BEGIN:VCALENDAR
VERSION:2.0
CALSCALE:GREGORIAN
PRODID:-//MyApp//Calendar 1.0//EN
BEGIN:VEVENT
METHOD:PUBLISH
UID:58522@regionalniportaly.cz
DTSTAMP:20260422T091035Z
DTSTART;VALUE=DATE:20251009
DTEND;VALUE=DATE:20251010
SUMMARY:Václava Hlaváčka slaví 35
DESCRIPTION:Co Češi dali světu – 35 let muziky od srdce!Speciální výroční koncert dechové kapely Krajanka Václava Hlaváčka. Kdy:9.10.2025 18:00Kde:MD Na Poště Legendární dechová kapela Krajanka slaví 35 let na scéně a zve vás na mimořádné koncertní turné s názvem „Co Češi dali světu – 35 let muziky od srdce!“Přijďte si užít večer plný hudby\, emocí a vzpomínek na melodie\, které už 35 let hřejí u srdce. Krajanka vám zahraje s takovou energií a radostí\, jako by to bylo poprvé – protože dobrá hudba nestárne.Těšíme se na vás – oslavme společně českou dechovku\, která má duši!
LOCATION:Benešov
END:VEVENT
END:VCALENDAR