BEGIN:VCALENDAR
VERSION:2.0
CALSCALE:GREGORIAN
PRODID:-//MyApp//Calendar 1.0//EN
BEGIN:VEVENT
METHOD:PUBLISH
UID:58524@regionalniportaly.cz
DTSTAMP:20260422T091052Z
DTSTART;VALUE=DATE:20251011
DTEND;VALUE=DATE:20251012
SUMMARY:Míša Růžičková: MÍŠA A PAN KRAVATA
DESCRIPTION:Kouzelná písničková show s Míšou Růžičkovou a Panem Kravatou! Kdy:11.10.2025 16:00Kde:Městské divadlo Na Poště To tu ještě nebylo - výběr toho nejlepšího z dětského světa písniček a kouzel! Odpoledne plné tance\, balónků a zvířátek\, které strhne malé i velké! Oblíbená dětská zpěvačka Míša Růžičková spolu s kouzelníkem Panem Kravatou vás zvou na jedinečnou kouzelnou písničkovou show o zatoulaném králíčkovi.Těšit se můžete na Míšiny nejznámější hity ale i na písničky zbrusu nové - o zatoulaném králíčkovi nebo mluvícím papouškovi\, a to vše zabalené do kouzelného příběhu plného překvapení.Kdo si zatančí s Míšou na pódiu? A kdo pomůže Panu Kravatovi vyčarovat králíčka?\nTento kouzelný zážitek potrvá 90 minut. Čeká vás pestrý program plný hudby\, smíchu\, balónků\, focení\, králíčka\, papouška a hlavně radosti v dětských očích. Na závěr autogramiáda a malý suvenýr pro každé dítě.Během vystoupení jsou děti zapojovány do písniček a kouzel. Mohou si zatančit před pódiem\, na svém místě nebo s Míšou na pódiu. Po představení mají děti možnost setkat se s Míšou i Panem Kravatou na autogramiádě\, vyfotit se a nechat si podepsat plakát\, CD nebo třeba tričko.Darujte svým dětem zážitek\, o kterém budou ještě dlouho vyprávět!
LOCATION:Benešov
END:VEVENT
END:VCALENDAR