BEGIN:VCALENDAR
VERSION:2.0
CALSCALE:GREGORIAN
PRODID:-//MyApp//Calendar 1.0//EN
BEGIN:VEVENT
METHOD:PUBLISH
UID:60760@regionalniportaly.cz
DTSTAMP:20260422T000742Z
DTSTART;VALUE=DATE:20260212
DTEND;VALUE=DATE:20260213
SUMMARY:Zlatá láska - Zlata Adamovská & Petr Štěpánek
DESCRIPTION:Zábavné povídání se Zlatou Adamovskou a Petrem Štěpánkem
LOCATION:Uhlířské Janovice
END:VEVENT
END:VCALENDAR