BEGIN:VCALENDAR
VERSION:2.0
CALSCALE:GREGORIAN
PRODID:-//MyApp//Calendar 1.0//EN
BEGIN:VEVENT
METHOD:PUBLISH
UID:62510@regionalniportaly.cz
DTSTAMP:20260422T032903Z
DTSTART;VALUE=DATE:20260313
DTEND;VALUE=DATE:20260314
SUMMARY:Petr Tomeček / Panova flétna v melodiích Karla Svobody
DESCRIPTION:Srdečně vás zveme na jedinečný hudební večer\, který propojí výjimečný zvuk vzácného hudebního nástroje Panovy flétny s nezaměnitelnou a nadčasovou tvorbou Karla Svobody\, jednoho z nejgeniálnějších českých skladatelů.Panova flétna\, nástroj s tisíciletou historií a kouzelně éterickým zvukem\, rozezní známé melodie\, které se zapsaly do srdcí několika generací. Zazní slavné filmové a televizní skladby v novém\, překvapivém podání - dojemné\, energické i snové.Celý koncert doprovodí obrazová a světelná projekce\, která umocní atmosféru a promění vystoupení v multisenzorický zážitek.Přijďte si užít večer plný emocí\, krásy a originálního hudebního spojení\, které se rodí jen výjimečně.&nbsp\;Petr Tomeček&nbsp\;(Panova flétna) patří k výrazným osobnostem české hudební scény a k výjimečným interpretům hry na Panovu flétnu. Jeho hudební projev se vyznačuje mimořádnou jemností\, kultivovaností a hlubokou emotivní silou\, s níž dokáže oslovit posluchače napříč generacemi.Zvuk Panovy flétny v jeho podání získává neobyčejnou barevnost a zpěvnost – od tichých\, meditativních poloh až po vášnivé a strhující melodie. Petr Tomeček mistrně spojuje technickou bravuru s přirozenou muzikálností a smyslem pro detail\, díky čemuž se každý jeho koncert stává jedinečným uměleckým zážitkem.Jeho interpretace se vyznačuje schopností vyprávět příběhy beze slov\, probouzet emoce a vytvářet hluboké spojení mezi hudbou a posluchačem. Právě tato citlivost a autenticita činí z Petra Tomečka umělce\, jehož hudba má sílu dotýkat se srdcí a zůstávat v paměti dlouho po doznění posledního tónu.
LOCATION:Benešov
END:VEVENT
END:VCALENDAR