BEGIN:VCALENDAR
VERSION:2.0
CALSCALE:GREGORIAN
PRODID:-//MyApp//Calendar 1.0//EN
BEGIN:VEVENT
METHOD:PUBLISH
UID:63128@regionalniportaly.cz
DTSTAMP:20260422T000724Z
DTSTART;VALUE=DATE:20260328
DTEND;VALUE=DATE:20260329
SUMMARY:Blbec k večeři
DESCRIPTION:SDH Lensedly ve spolupráci s dobříšským divadelním spolkem Pípa platí Vás srdečně zve na oblíbenou komedii Francise Vebera&nbsp\;BLBEC K VEČEŘI.Čeká Vás večer plný chytrého humoru\, nečekaných situací a smíchu\, který nešetří nikoho – ani ty\, kteří si myslí\, že mají vše pod kontrolou.Přestávka v délce 20 minutOd 17:30 bude otevřen sál a připraveno občerstvení(pivo\, víno\, chlebíčky a další dobroty).Přejeme Vám nezapomenutelný večer strávený s úsměvem na rtech.VstupnéPředprodej do 20. března: 160 KčOd 21. března: 200 KčKapacita sálu je omezená\, doporučujeme zakoupit vstupenky v předprodeji.
LOCATION:Kaliště
END:VEVENT
END:VCALENDAR