BEGIN:VCALENDAR
VERSION:2.0
CALSCALE:GREGORIAN
PRODID:-//MyApp//Calendar 1.0//EN
BEGIN:VEVENT
METHOD:PUBLISH
UID:64022@regionalniportaly.cz
DTSTAMP:20260419T231810Z
DTSTART;VALUE=DATE:20270401
DTEND;VALUE=DATE:20270402
SUMMARY:Kvítek medový s Felixem a Bohušem
DESCRIPTION:Zažijte 1\,5 hodinový program Kvítek medový s přední operní a muzikálovou zpěvačkou Terezou Mátlovou\, zpěvákem Bohušem Matušem\, legendou Felixem Slováčkem. Zažijte krásný večer v doprovodu legendárního BIGBANDU Felixe Slováčka.&nbsp\;Můžete se těšit na krásné skladby a melodie. Uslyšíte světově známé hity v podání skvělých a uznávaných umělců. V průběhu večera se budeme přenášet z opery do muzikálu a POP hudby.Malá ochutnávka toho\, co nás čeká:&nbsp\;Ennio&nbsp\;Morricone a TENKRÁT NA ZÁPADĚ\, árii Měsíčku na nebi hlubokém\, zavzpomínáme na Karla Gotta či Valdemara Matušku a dokonce navštívíme a strávíme Noc na Karlštejně.&nbsp\;
LOCATION:Kamenice
END:VEVENT
END:VCALENDAR